BEGIN:VCALENDAR
VERSION:2.0
PRODID:gruene-gettorf.de
METHOD:PUBLISH
BEGIN:VTIMEZONE
TZID:Europe/Berlin
X-LIC-LOCATION:Europe/Berlin
BEGIN:DAYLIGHT
TZOFFSETFROM:+0100
TZOFFSETTO:+0200
TZNAME:CEST
DTSTART:19700329T020000
RRULE:FREQ=YEARLY;INTERVAL=1;BYDAY=-1SU;BYMONTH=3
END:DAYLIGHT
BEGIN:STANDARD
TZOFFSETFROM:+0200
TZOFFSETTO:+0100
TZNAME:CET
DTSTART:19701025T030000
RRULE:FREQ=YEARLY;INTERVAL=1;BYDAY=-1SU;BYMONTH=10
END:STANDARD
END:VTIMEZONE
BEGIN:VEVENT
UID:6e67121cd68ccdcf0b570067ff44d0d6@gruene-gettorf.de
URL;VALUE=URI:https://gruene-gettorf.de/termine/kreismitgliederversammlun
 g/
LOCATION:Parkschule, Tüttendorfer Weg 2, Gettorf
SUMMARY:Kreismitgliederversammlung
DESCRIPTION;ALTREP="data:text/html,%0A%3Cp%3E%3Ca%20href%3D%22https%3A%2F
 %2Fgruene-rendsburg-eckernfoerde.de%2Ftermine%2Fkreismitgliederversammlun
 g-mit-delegiertenwahl%2F%22%3Emit%20Delegiertenwahl%3C%2Fa%3E%3C%2Fp%3E%0
 A%0A%0A%0A%3Cp%3E%3C%2Fp%3E%0A":mit Delegiertenwahl
CLASS:PUBLIC
DTSTART;TZID=Europe/Berlin:20260425T100000
DTEND;TZID=Europe/Berlin:20260425T110000
DTSTAMP:20260423T153100
END:VEVENT
END:VCALENDAR