BEGIN:VCALENDAR
VERSION:2.0
PRODID:gruene-gettorf.de
METHOD:PUBLISH
BEGIN:VTIMEZONE
TZID:Europe/Berlin
X-LIC-LOCATION:Europe/Berlin
BEGIN:DAYLIGHT
TZOFFSETFROM:+0100
TZOFFSETTO:+0200
TZNAME:CEST
DTSTART:19700329T020000
RRULE:FREQ=YEARLY;INTERVAL=1;BYDAY=-1SU;BYMONTH=3
END:DAYLIGHT
BEGIN:STANDARD
TZOFFSETFROM:+0200
TZOFFSETTO:+0100
TZNAME:CET
DTSTART:19701025T030000
RRULE:FREQ=YEARLY;INTERVAL=1;BYDAY=-1SU;BYMONTH=10
END:STANDARD
END:VTIMEZONE
BEGIN:VEVENT
UID:81d5dae184c200d2972d6282f34ed439@gruene-gettorf.de
URL;VALUE=URI:https://gruene-gettorf.de/termine/ortsverband-gettorf-3/
LOCATION:Stadt Hamburg, Süderstraße 1, Gettorf
SUMMARY:Ortsverband Gettorf
DESCRIPTION;ALTREP="data:text/html,%0A%3Cp%3EArbeitstreffen%20von%20Ortsv
 erband%20und%20Fraktion%20im%20Hotel%20Stadt%20Hamburg.%3C%2Fp%3E%0A%0A%0
 A%0A%3Cp%3EInteressierte%20sind%20herzlich%20willkommen%21%3C%2Fp%3E%0A%0
 A%0A%0A%3Cp%3E%3C%2Fp%3E%0A":Arbeitstreffen von Ortsverband und Fraktion 
 im Hotel Stadt Hamburg.\n\nInteressierte sind herzlich willkommen!
CLASS:PUBLIC
DTSTART;TZID=Europe/Berlin:20260401T190000
DTEND;TZID=Europe/Berlin:20260401T210000
DTSTAMP:20260421T222237
END:VEVENT
END:VCALENDAR