BEGIN:VCALENDAR
VERSION:2.0
PRODID:gruene-gettorf.de
METHOD:PUBLISH
BEGIN:VTIMEZONE
TZID:Europe/Berlin
X-LIC-LOCATION:Europe/Berlin
BEGIN:DAYLIGHT
TZOFFSETFROM:+0100
TZOFFSETTO:+0200
TZNAME:CEST
DTSTART:19700329T020000
RRULE:FREQ=YEARLY;INTERVAL=1;BYDAY=-1SU;BYMONTH=3
END:DAYLIGHT
BEGIN:STANDARD
TZOFFSETFROM:+0200
TZOFFSETTO:+0100
TZNAME:CET
DTSTART:19701025T030000
RRULE:FREQ=YEARLY;INTERVAL=1;BYDAY=-1SU;BYMONTH=10
END:STANDARD
END:VTIMEZONE
BEGIN:VEVENT
UID:0fa24fa46ea322d89fbea076e5331718@gruene-gettorf.de
URL;VALUE=URI:https://gruene-gettorf.de/termine/sozialausschuss-2/
LOCATION:
SUMMARY:Sozialausschuss
DESCRIPTION;ALTREP="data:text/html,%0A%3Cp%3E%3Ca%20href%3D%22https%3A%2F
 %2Fwww.amt-daenischer-wohld.sitzung-online.de%2Fbi2%2Fsi018_a.asp%3FGRA%3
 D12%22%3ETagesordnungen%20und%20Protokolle%20des%20Ausschusses%20f%C3%BCr
 %20Kultur%2C%20Sport%2C%20Jugend%20und%20Soziales%3C%2Fa%3E%3C%2Fp%3E%0A%
 0A%0A%0A%3Cp%3E%3C%2Fp%3E%0A":Tagesordnungen und Protokolle des Ausschuss
 es für Kultur\, Sport\, Jugend und Soziales
CLASS:PUBLIC
DTSTART;TZID=Europe/Berlin:20260824T180000
DTEND;TZID=Europe/Berlin:20260824T190000
DTSTAMP:20260425T173304
END:VEVENT
END:VCALENDAR